BEGIN:VCALENDAR
VERSION:2.0
PRODID:-//César Viana - ECPv6.15.14//NONSGML v1.0//EN
CALSCALE:GREGORIAN
METHOD:PUBLISH
X-WR-CALNAME:César Viana
X-ORIGINAL-URL:https://www.cesarviana.net
X-WR-CALDESC:Events for César Viana
REFRESH-INTERVAL;VALUE=DURATION:PT1H
X-Robots-Tag:noindex
X-PUBLISHED-TTL:PT1H
BEGIN:VTIMEZONE
TZID:Europe/Madrid
BEGIN:DAYLIGHT
TZOFFSETFROM:+0100
TZOFFSETTO:+0200
TZNAME:CEST
DTSTART:20240331T010000
END:DAYLIGHT
BEGIN:STANDARD
TZOFFSETFROM:+0200
TZOFFSETTO:+0100
TZNAME:CET
DTSTART:20241027T010000
END:STANDARD
BEGIN:DAYLIGHT
TZOFFSETFROM:+0100
TZOFFSETTO:+0200
TZNAME:CEST
DTSTART:20250330T010000
END:DAYLIGHT
BEGIN:STANDARD
TZOFFSETFROM:+0200
TZOFFSETTO:+0100
TZNAME:CET
DTSTART:20251026T010000
END:STANDARD
BEGIN:DAYLIGHT
TZOFFSETFROM:+0100
TZOFFSETTO:+0200
TZNAME:CEST
DTSTART:20260329T010000
END:DAYLIGHT
BEGIN:STANDARD
TZOFFSETFROM:+0200
TZOFFSETTO:+0100
TZNAME:CET
DTSTART:20261025T010000
END:STANDARD
END:VTIMEZONE
BEGIN:VTIMEZONE
TZID:Europe/Lisbon
BEGIN:DAYLIGHT
TZOFFSETFROM:+0000
TZOFFSETTO:+0100
TZNAME:WEST
DTSTART:20240331T010000
END:DAYLIGHT
BEGIN:STANDARD
TZOFFSETFROM:+0100
TZOFFSETTO:+0000
TZNAME:WET
DTSTART:20241027T010000
END:STANDARD
BEGIN:DAYLIGHT
TZOFFSETFROM:+0000
TZOFFSETTO:+0100
TZNAME:WEST
DTSTART:20250330T010000
END:DAYLIGHT
BEGIN:STANDARD
TZOFFSETFROM:+0100
TZOFFSETTO:+0000
TZNAME:WET
DTSTART:20251026T010000
END:STANDARD
BEGIN:DAYLIGHT
TZOFFSETFROM:+0000
TZOFFSETTO:+0100
TZNAME:WEST
DTSTART:20260329T010000
END:DAYLIGHT
BEGIN:STANDARD
TZOFFSETFROM:+0100
TZOFFSETTO:+0000
TZNAME:WET
DTSTART:20261025T010000
END:STANDARD
END:VTIMEZONE
BEGIN:VEVENT
DTSTART;VALUE=DATE:20251008
DTEND;VALUE=DATE:20251009
DTSTAMP:20260421T105243
CREATED:20250813T130805Z
LAST-MODIFIED:20250813T130848Z
UID:454-1759881600-1759967999@www.cesarviana.net
SUMMARY:World Shakuhachi Day
DESCRIPTION:October 8th is World Shakuhachi Day. Every year there’s a 24 hour shakuhachi marathon with players from all over the world. I’ll be playing at 7:30 Japan Standard Time.
URL:https://www.cesarviana.net/event/world-shakuhachi-day/
END:VEVENT
BEGIN:VEVENT
DTSTART;TZID=Europe/Lisbon:20251005T170000
DTEND;TZID=Europe/Lisbon:20251005T180000
DTSTAMP:20260421T105243
CREATED:20250930T145849Z
LAST-MODIFIED:20250930T145849Z
UID:501-1759683600-1759687200@www.cesarviana.net
SUMMARY:Quarteto Lopes-Graça - Lousã
DESCRIPTION:Quarteto Lopes-Graça will play my pieces “In Paradiso”\, and “Partindo-se”\, together with soprano Ana Rosa.
URL:https://www.cesarviana.net/event/quarteto-lopes-graca-lousa/
END:VEVENT
BEGIN:VEVENT
DTSTART;TZID=Europe/Lisbon:20251004T190000
DTEND;TZID=Europe/Lisbon:20251004T200000
DTSTAMP:20260421T105243
CREATED:20250930T145736Z
LAST-MODIFIED:20250930T145736Z
UID:497-1759604400-1759608000@www.cesarviana.net
SUMMARY:Quarteto Lopes-Graça - Mosteiro de Lorvão
DESCRIPTION:Quarteto Lopes-Graça will play my pieces “In Paradiso”\, and “Partindo-se”\, together with soprano Ana Rosa.
URL:https://www.cesarviana.net/event/quarteto-lopes-graca-mosteiro-de-lorvao/
END:VEVENT
BEGIN:VEVENT
DTSTART;TZID=Europe/Lisbon:20250919T210000
DTEND;TZID=Europe/Lisbon:20250919T223000
DTSTAMP:20260421T105243
CREATED:20250808T085113Z
LAST-MODIFIED:20250808T085702Z
UID:411-1758315600-1758321000@www.cesarviana.net
SUMMARY:Opera "O Último Canto: Camões e o Destino
DESCRIPTION:Final performance of O Último Canto\, an opera by César Viana depicting the last days of Luís de Camões\, presented in commemoration of the 500th anniversary of the poet’s birth. Singers: Luís Rodrigues\, Mário Alves\, Daniela Matos; Orquestra: Musicamerata; Zave Vocal Ensemble; cond. Brian Mackay.
URL:https://www.cesarviana.net/event/opera-o-ultimo-canto-camoes-e-o-destino/
LOCATION:Cine-teatro Paraiso\, Tomar\, Portugal
END:VEVENT
BEGIN:VEVENT
DTSTART;VALUE=DATE:20250901
DTEND;VALUE=DATE:20250911
DTSTAMP:20260421T105243
CREATED:20250808T081848Z
LAST-MODIFIED:20250808T081848Z
UID:404-1756684800-1757548799@www.cesarviana.net
SUMMARY:Lumières d’Europe
DESCRIPTION:I will be in Bucharest as Composer in Residence at the Lumières d’Europe – Enescu Festival 2025\, where several of my chamber works will be performed. Among them is the world premiere of my new Piano Quintet\, Tombeau de George Enescu.
URL:https://www.cesarviana.net/event/lumieres-deurope/
LOCATION:Enescu Festival 2025\, Bucharest\, Romania
ORGANIZER;CN="Cesar Viana":MAILTO:cesar@cesarviana.net
END:VEVENT
END:VCALENDAR